{"text_format":"1","workbook":"xlsx","n_sheets":1,"sheets":["Form 4"],"not_rendered":{"charts":0,"images":0,"macros":1,"external_links":1,"defined_names":3,"comments":0,"pivot_tables":0},"unopened":[],"bounds":{"document_bytes":16777216,"sheet_cells":100000,"rows_first":2000,"rows_last":500,"rows_between":2000,"halvings":0,"cell_chars":16384,"cell_head_chars":4096},"cells_cut":0,"cells_raw":0,"read":"whole","date_system":"1900"}

{"sheet":"Form 4","index":0,"n_rows":78,"n_cols":19,"rows_kept":78,"cut":false,"hidden":false,"merged":[]}
[]
["Table A.1.1",null,null,null,null,null,null,null,null,"STANDARD FORM 4",null,null,null,null,null,null,null,"BY:","EPF / FKR"]
["Rancho-Fort Apache Storm Drain",null,null,null,null,null,null,null,null,"HYDROLOGIC CRITERIA AND DRAINAGE DESIGN MANUAL",null,null,null,null,null,null,null,"DATE:","2013-03-21"]
["LBG Project No.:  CCB 1126",null,null,null,null,null,null,null,null,"TIME OF CONCENTRATION"]
[null,null,null,null,null,null,null,null,null,"FUTURE CONDITIONS",null,null,null,null,null,null,null,"CHKD BY:","JSD"]
[null,null,null,null,null,null,null,null,null,null,null,null,null,null,null,null,null,"DATE:","2013-04-26"]
[]
["SUB-BASIN",null,null,null,null,null,"INITIAL / OVERLAND",null,null,"TRAVEL TIME",null,null,null,null,null,"Tc","Tc","Tlag","REMARKS"]
["DATA",null,null,null,null,null,"TIME (Ti)",null,null,"(Tt)",null,null,null,null,null,null,"Check"," "]
[null,null,null,null,null,null,"Lo INITIAL","S ",null,"TRAVEL",null,null,"V1","V2",null,null,null,"Tlag="]
["BASIN","DEV./UN.","CN","K","AREA","AREA","LENGTH","SLOPE","Ti","LENGTH","Elevation","SLOPE","VELOCITY","VELOCITY","Tt",null,null,"0.6Tc/60"]
[null,"(D or U)",null,null,"Ac","(mi2)","(ft)","%","(min)","(ft)","Drop","%","(ft/s)","(ft/s)","(min)","(min)","(min)","(hours)"]
["(1)",null,null,"(2)","(3)",null,"(4)","(5)","(6)","(7)",null,"(8)","(9a)","(9b)","(10)","(13)","(14)"]
["NW53-CA","D",{"$f":"VLOOKUP(A14,[1]Calcs!$A$6:$L$897,12,FALSE)","v":79.132335096830559},{"$f":"0.0132*C14-0.39","v":0.65454682327816338},{"$f":"VLOOKUP(A14,[1]Calcs!$A$6:$L$897,7,FALSE)","v":41.206000000000003},{"$f":"E14/640","v":6.4384375000000008E-2},125,2,{"$f":"(1.8*(1.1-D14)*G14^0.5)/(H14^0.33333)","v":7.115202153993029},3000,null,{"$f":"100*9*10/3130","v":2.8753993610223643},{"$f":"IF(B14=\"D\",20.2*SQRT(L14/100),14.8*SQRT(L14/100))","v":3.4253145188019816},{"$f":"IF(B14=\"D\",30.6*SQRT(L14/100),29.4*SQRT(L14/100))","v":5.1888427859079531},{"$f":"IF(J14>500,500/(60*M14)+(J14-500)/(60*N14),(J14/(60*M14)))","v":10.462916546700587},{"$f":"IF((I14+O14)>5,(I14+O14),5)","v":17.578118700693615},{"$f":"IF(B14=\"D\",+(G14+J14)/180+10,\"N/A\")","v":27.361111111111111},{"$f":"IF(Q14>P14,P14*0.6/60,Q14*0.6/60)","v":0.17578118700693615},"PB = 2.85\""]
["NW53-CB","D",{"$f":"VLOOKUP(A15,[1]Calcs!$A$6:$L$897,12,FALSE)","v":79.75696694332234},0.66279196365185478,{"$f":"VLOOKUP(A15,[1]Calcs!$A$6:$L$897,7,FALSE)","v":81.659627999999998},0.12759316874999999,125,2,6.9835029236079293,{"$f":"3950-125","v":3825},null,{"$f":"100*10*10/3950","v":2.5316455696202533},3.2140514280699497,4.8688105791554683,13.974753779537345,20.958256703145274,31.944444444444443,0.20958256703145273,"PB = 2.85\""]
["NW53-CC","D",{"$f":"VLOOKUP(A16,[1]Calcs!$A$6:$L$897,12,FALSE)","v":87.237535040473702},{"$f":"0.0132*C16-0.39","v":0.76153546253425286},{"$f":"VLOOKUP(A16,[1]Calcs!$A$6:$L$897,7,FALSE)","v":63.498000000000005},{"$f":"E16/640","v":9.9215625000000002E-2},125,2,{"$f":"(1.8*(1.1-D16)*G16^0.5)/(H16^0.33333)","v":5.4062777680680165},{"$f":"3180-125","v":3055},null,{"$f":"100*5.5*10/3180","v":1.729559748427673},{"$f":"IF(B16=\"D\",20.2*SQRT(L16/100),14.8*SQRT(L16/100))","v":2.6565570947156916},{"$f":"IF(B16=\"D\",30.6*SQRT(L16/100),29.4*SQRT(L16/100))","v":4.0242894603118895},{"$f":"IF(J16>500,500/(60*M16)+(J16-500)/(60*N16),(J16/(60*M16)))","v":13.718470367012893},{"$f":"IF((I16+O16)>5,(I16+O16),5)","v":19.12474813508091},{"$f":"IF(B16=\"D\",+(G16+J16)/180+10,\"N/A\")","v":27.666666666666668},{"$f":"IF(Q16>P16,P16*0.6/60,Q16*0.6/60)","v":0.1912474813508091},"PB = 2.85\""]
["NW66-CA","D",{"$f":"VLOOKUP(A17,[1]Calcs!$A$6:$L$897,12,FALSE)","v":84},0.71879999999999999,{"$f":"VLOOKUP(A17,[1]Calcs!$A$6:$L$897,7,FALSE)","v":4.0999990000000004},6.4062484375000004E-3,125,2,6.0888892544498541,2500,null,2.04,2.8851370851313116,4.3705541982682252,10.515164353248577,16.604053607698432,24.583333333333336,0.16604053607698432,"PB = 2.91\""]
["NW66-CB","D",{"$f":"VLOOKUP(A18,[1]Calcs!$A$6:$L$897,12,FALSE)","v":77.538461775147965},0.63350769543195307,{"$f":"VLOOKUP(A18,[1]Calcs!$A$6:$L$897,7,FALSE)","v":6.4999990000000007},1.0156248437500001E-2,125,2,7.451259130555953,1415.64,null,2.7549299999999999,3.3527923246154092,5.0789824323381945,5.4901605615649327,12.941419692120885,18.559111111111111,0.12941419692120884,"PB = 2.91\""]
["NW66-CC","D",{"$f":"VLOOKUP(A19,[1]Calcs!$A$6:$L$897,12,FALSE)","v":84.066666666666677},0.71968000000000021,{"$f":"VLOOKUP(A19,[1]Calcs!$A$6:$L$897,7,FALSE)","v":6},9.3749999999999997E-3,125,2,6.0748330568005438,1504,null,2.6598999999999999,3.2944583712652977,4.9906151564711942,5.8824603358775152,11.957293392678059,19.05,0.11957293392678059,"PB = 2.87\""]
["NW66-CD","D",{"$f":"VLOOKUP(A20,[1]Calcs!$A$6:$L$897,12,FALSE)","v":84.095238106575977},0.7200571430068029,{"$f":"VLOOKUP(A20,[1]Calcs!$A$6:$L$897,7,FALSE)","v":8.3999989999999993},1.3124998437499999E-2,125,2,6.0688089697031868,1511,null,2.59,3.2508823417650783,4.924603943465911,5.9850015787247539,12.05381054842794,19.088888888888889,0.12053810548427939,"PB = 2.87\""]
["NW66-CE","D",{"$f":"VLOOKUP(A21,[1]Calcs!$A$6:$L$897,12,FALSE)","v":84},0.71879999999999999,{"$f":"VLOOKUP(A21,[1]Calcs!$A$6:$L$897,7,FALSE)","v":6.5999990000000004},1.0312498437500001E-2,125,2,6.0888892544498541,1524,null,2.59,3.2508823417650783,4.924603943465911,6.0289983486485861,12.11788760309844,19.161111111111111,0.1211788760309844,"PB = 2.86\""]
["NW66-CF","D",{"$f":"VLOOKUP(A22,[1]Calcs!$A$6:$L$897,12,FALSE)","v":84},0.71879999999999999,{"$f":"VLOOKUP(A22,[1]Calcs!$A$6:$L$897,7,FALSE)","v":7.9},1.2343750000000001E-2,125,2,6.0888892544498541,1493,null,2.5499000000000001,3.2256180741061082,4.8863323300815305,5.9704826453649851,12.059371899814838,18.988888888888887,0.12059371899814837,"PB = 2.86\""]
["NW66-CG","D",{"$f":"VLOOKUP(A23,[1]Calcs!$A$6:$L$897,12,FALSE)","v":84.059701501448004},0.71958805981911367,{"$f":"VLOOKUP(A23,[1]Calcs!$A$6:$L$897,7,FALSE)","v":6.699999},1.04687484375E-2,125,2,6.0763016128851497,1273,null,2.83,3.3981659759346656,5.1477167754257813,4.9550309044462146,11.031332517331364,17.766666666666666,0.11031332517331364,"PB = 2.86\""]
["NW66-CI1","D",{"$f":"VLOOKUP(A24,[1]Calcs!$A$6:$L$897,12,FALSE)","v":84.071856291727926},0.71974850305080851,{"$f":"VLOOKUP(A24,[1]Calcs!$A$6:$L$897,7,FALSE)","v":16.699999000000002},2.6093748437500001E-2,125,2,6.0737388608667455,1551,null,2.5145067698259185,3.2031536684332953,4.8523020917850914,6.2115730786695655,12.28531193953631,19.31111111111111,0.12285311939536309,"PB = 2.85\""]
["NW66-CI2","D",{"$f":"VLOOKUP(A25,[1]Calcs!$A$6:$L$897,12,FALSE)","v":84},0.71879999999999999,{"$f":"VLOOKUP(A25,[1]Calcs!$A$6:$L$897,7,FALSE)","v":15.399998999999999},2.40624984375E-2,125,2,6.0888892544498541,1878,null,1.3312034078807242,2.3306313276699311,3.5305603280544506,10.080674379105353,16.169563633555207,21.12777777777778,0.16169563633555206,"PB = 2.85\""]
["NW66-CI3","D",{"$f":"VLOOKUP(A26,[1]Calcs!$A$6:$L$897,12,FALSE)","v":84.077922077922082},0.71982857142857137,{"$f":"VLOOKUP(A26,[1]Calcs!$A$6:$L$897,7,FALSE)","v":15.399999999999999},2.4062499999999997E-2,125,2,6.0724599325220927,2570,null,2.2568093385214008,3.0345814908983284,4.5969402782915276,10.251114768397942,16.323574700920034,24.972222222222221,0.16323574700920035,"PB = 2.85\""]
["NW66-CJ1","D",{"$f":"VLOOKUP(A27,[1]Calcs!$A$6:$L$897,12,FALSE)","v":86.363637438017008},0.75000001418182449,{"$f":"VLOOKUP(A27,[1]Calcs!$A$6:$L$897,7,FALSE)","v":2.199999},3.4374984375E-3,125,2,5.5905329294488197,1267,null,2.1,2.9272581027302662,4.4343612843339679,5.729595330748305,11.320128260197125,17.733333333333334,0.11320128260197125,"PB = 2.85\""]
["NW66-CJ2","D",{"$f":"VLOOKUP(A28,[1]Calcs!$A$6:$L$897,12,FALSE)","v":84.035714285714292},0.71927142857142867,{"$f":"VLOOKUP(A28,[1]Calcs!$A$6:$L$897,7,FALSE)","v":11.2},1.7499999999999998E-2,125,2,6.0813591485662952,1623,null,2.3413431916204557,3.0908925505568945,4.6822431706455934,6.6934646281053869,12.774823776671681,19.711111111111109,0.12774823776671682,"PB = 2.85\""]
["NW66-CJ3","D",{"$f":"VLOOKUP(A29,[1]Calcs!$A$6:$L$897,12,FALSE)","v":84.25454545454545},0.72216000000000002,{"$f":"VLOOKUP(A29,[1]Calcs!$A$6:$L$897,7,FALSE)","v":11},1.7187500000000001E-2,125,2,6.0352201361524989,1610,null,2.360248447204969,3.1033462204490103,4.7011086309772141,6.6205154612153612,12.65573559736786,19.638888888888889,0.12655735597367859,"PB = 2.85\""]
["NW66-CJ4","D",{"$f":"VLOOKUP(A30,[1]Calcs!$A$6:$L$897,12,FALSE)","v":84},0.71879999999999999,{"$f":"VLOOKUP(A30,[1]Calcs!$A$6:$L$897,7,FALSE)","v":3.7999990000000001},5.9374984375E-3,125,2,6.0888892544498541,875,null,2.2857142857142856,3.0539529419145559,4.6262851496329409,4.0796798653310651,10.168569119780919,15.555555555555555,0.10168569119780919,"PB = 2.85\""]
["NW66-CJ5","D",{"$f":"VLOOKUP(A31,[1]Calcs!$A$6:$L$897,12,FALSE)","v":84.125000019531257},0.72045000025781258,{"$f":"VLOOKUP(A31,[1]Calcs!$A$6:$L$897,7,FALSE)","v":6.3999990000000002},9.999998437500001E-3,125,2,6.062533879739374,1375,null,2.4727272727272727,3.1764313881518618,4.8118218058142066,5.6542192972932117,11.716753177032587,18.333333333333336,0.11716753177032586,"PB = 2.85\""]
["NW66-CJ6","D",{"$f":"VLOOKUP(A32,[1]Calcs!$A$6:$L$897,12,FALSE)","v":84},0.71879999999999999,{"$f":"VLOOKUP(A32,[1]Calcs!$A$6:$L$897,7,FALSE)","v":3.7999990000000001},5.9374984375E-3,125,2,6.0888892544498541,851,null,2.2326674500587544,3.018306853721096,4.5722866199933438,4.0403771485927793,10.129266403042633,15.422222222222222,0.10129266403042633,"PB = 2.85\""]
["NW77-CA","D",{"$f":"VLOOKUP(A33,[1]Calcs!$A$6:$L$897,12,FALSE)","v":80.094644677059406},0.66724930973718422,{"$f":"VLOOKUP(A33,[1]Calcs!$A$6:$L$897,7,FALSE)","v":80.299993999999984},0.12546874062499996,125,2,6.9123059491002516,3864,null,2.69,3.3130463323050585,5.0187731568581579,13.686697305503589,20.59900325460384,32.161111111111111,0.20599003254603837,"PB = 2.98\""]
["NW77-CB","D",{"$f":"VLOOKUP(A34,[1]Calcs!$A$6:$L$897,12,FALSE)","v":83.728459063455176},0.71521565963760836,{"$f":"VLOOKUP(A34,[1]Calcs!$A$6:$L$897,7,FALSE)","v":42.345500999999999},6.6164845312499998E-2,125,2,6.1461417505591323,2611,null,2.2200000000000002,3.0097322140017706,4.5592973142799105,10.485628028651945,16.631769779211076,25.2,0.16631769779211075,"PB = 2.91\""]
["NW77-CC","D",{"$f":"VLOOKUP(A35,[1]Calcs!$A$6:$L$897,12,FALSE)","v":84.60869504725872},0.72683477462381518,{"$f":"VLOOKUP(A35,[1]Calcs!$A$6:$L$897,7,FALSE)","v":4.5999980000000003},7.1874968750000002E-3,125,2,5.9605501860635091,1135.04,null,2.81928,3.3917237670541511,5.1379577857354963,4.5169235217675965,10.477473707831106,17.00022222222222,0.10477473707831104,"PB = 2.90\""]
["NW77-CD","D",{"$f":"VLOOKUP(A36,[1]Calcs!$A$6:$L$897,12,FALSE)","v":86.027397260273972},0.74556164383561641,{"$f":"VLOOKUP(A36,[1]Calcs!$A$6:$L$897,7,FALSE)","v":7.3000000000000007},1.1406250000000001E-2,125,2,5.661426805388734,1636.81,null,2.6270700000000002,3.2740642064565559,4.9597210256223079,6.3653974783006513,12.026824283689386,19.787833333333332,0.12026824283689384,"PB = 2.90\""]
["NW77-CE","D",{"$f":"VLOOKUP(A37,[1]Calcs!$A$6:$L$897,12,FALSE)","v":82.505495056152753},0.69907253474121622,{"$f":"VLOOKUP(A37,[1]Calcs!$A$6:$L$897,7,FALSE)","v":9.0999980000000011},1.4218746875000002E-2,125,2,6.4039951076286084,1441.44,null,2.8443800000000001,3.4067885393725277,5.1607786784554142,5.4864645060459383,11.890459613674548,18.702444444444446,0.11890459613674546,"PB = 2.91\""]
["NW77-CF","D",{"$f":"VLOOKUP(A38,[1]Calcs!$A$6:$L$897,12,FALSE)","v":84},0.71879999999999999,{"$f":"VLOOKUP(A38,[1]Calcs!$A$6:$L$897,7,FALSE)","v":3.7},5.7812499999999999E-3,125,2,6.0888892544498541,1090.1199999999999,null,2.7519999999999998,3.3510089226977593,5.0762808432946258,4.4243209552201357,10.513210209669989,16.750666666666667,0.10513210209669989,"PB = 2.90\""]
["NW77-CG","D",{"$f":"VLOOKUP(A39,[1]Calcs!$A$6:$L$897,12,FALSE)","v":84},0.71879999999999999,{"$f":"VLOOKUP(A39,[1]Calcs!$A$6:$L$897,7,FALSE)","v":4.3},6.7187499999999999E-3,125,2,6.0888892544498541,1250.1600000000001,null,2.4796800000000001,3.1808939422747184,4.8185819125547722,5.2144862324406294,11.303375486890484,17.63977777777778,0.11303375486890484,"PB = 2.90\""]
["NW77-CH","D",{"$f":"VLOOKUP(A40,[1]Calcs!$A$6:$L$897,12,FALSE)","v":88.000000000000014},0.77160000000000017,{"$f":"VLOOKUP(A40,[1]Calcs!$A$6:$L$897,7,FALSE)","v":8.9},1.390625E-2,125,2,5.245517395491424,1761.65,null,2.7246999999999999,3.3343463947226599,5.0510395880452181,6.6622448289424039,11.907762224433828,20.481388888888887,0.11907762224433828,"PB = 2.90\""]
["NWBA6-CA","D",{"$f":"VLOOKUP(A41,[1]Calcs!$A$6:$L$897,12,FALSE)","v":79.991054068814861},0.66588191370835614,{"$f":"VLOOKUP(A41,[1]Calcs!$A$6:$L$897,7,FALSE)","v":84.683750000000003},0.132318359375,300,2,10.742334805315254,3700,112,2.8000000000000003,3.3801065071976657,5.1203593623885437,12.881341140634962,23.623675945950218,32.222222222222221,0.23623675945950218,"PB = 2.95\""]
["NWBA6-CB","D",{"$f":"VLOOKUP(A42,[1]Calcs!$A$6:$L$897,12,FALSE)","v":84.342857240816357},0.7233257155787759,{"$f":"VLOOKUP(A42,[1]Calcs!$A$6:$L$897,7,FALSE)","v":3.4999989999999999},5.4687484374999996E-3,125,2,6.0166002173136919,1281,null,3.37,3.7082270696385353,5.6174132837098609,4.5644548029357024,10.581055020249394,17.81111111111111,0.10581055020249394,"PB = 2.91\""]
["NWBA6-CC","D",{"$f":"VLOOKUP(A43,[1]Calcs!$A$6:$L$897,12,FALSE)","v":84.319248826291073},0.72301408450704219,{"$f":"VLOOKUP(A43,[1]Calcs!$A$6:$L$897,7,FALSE)","v":21.3},3.3281249999999998E-2,125,2,6.0215778854250033,2200,null,1.91,2.7916955421392209,4.2290041380920878,9.6848086150250801,15.706386500450083,22.916666666666664,0.15706386500450084,"PB = 2.91\""]
["NWBA6-CD","D",{"$f":"VLOOKUP(A44,[1]Calcs!$A$6:$L$897,12,FALSE)","v":84},0.71879999999999999,{"$f":"VLOOKUP(A44,[1]Calcs!$A$6:$L$897,7,FALSE)","v":4.8},7.4999999999999997E-3,25,2,2.7230340560835771,840,null,3.14,3.5794491196272089,5.4223338148808224,3.3731654426565951,6.0961994987401722,14.805555555555555,6.0961994987401721E-2,"PB = 2.91\""]
["NWBA6-CE","D",{"$f":"VLOOKUP(A45,[1]Calcs!$A$6:$L$897,12,FALSE)","v":84.102564128862596},0.72015384650098635,{"$f":"VLOOKUP(A45,[1]Calcs!$A$6:$L$897,7,FALSE)","v":3.8999990000000002},6.0937484375000002E-3,125,2,6.0672643294445274,1146,null,2.0500000000000003,2.8921998547818233,4.3812532453625641,5.338753030919273,11.406017360363801,17.06111111111111,0.114060173603638,"PB = 2.93\""]
["NWBA6-CF","D",{"$f":"VLOOKUP(A46,[1]Calcs!$A$6:$L$897,12,FALSE)","v":83.103614953952558},0.70696771739217368,{"$f":"VLOOKUP(A46,[1]Calcs!$A$6:$L$897,7,FALSE)","v":38.884782999999999},6.0757473437500001E-2,125,2,6.2778857351067456,2587,null,2.09,2.9202801235497935,4.423790682209094,10.716396664115543,16.994282399222289,25.066666666666666,0.16994282399222288,"PB = 2.95\""]
["NWBA6-CG","D",{"$f":"VLOOKUP(A47,[1]Calcs!$A$6:$L$897,12,FALSE)","v":84},{"$f":"0.0132*C47-0.39","v":0.71879999999999999},{"$f":"VLOOKUP(A47,[1]Calcs!$A$6:$L$897,7,FALSE)","v":3.2},{"$f":"E47/640","v":5.0000000000000001E-3},25,2,{"$f":"(1.8*(1.1-D47)*G47^0.5)/(H47^0.33333)","v":2.7230340560835771},708,null,3.31,{"$f":"IF(B47=\"D\",20.2*SQRT(L47/100),14.8*SQRT(L47/100))","v":3.6750678905293706},{"$f":"IF(B47=\"D\",30.6*SQRT(L47/100),29.4*SQRT(L47/100))","v":5.567182051990037},{"$f":"IF(J47>500,500/(60*M47)+(J47-500)/(60*N47),(J47/(60*M47)))","v":2.890228645774684},{"$f":"IF((I47+O47)>5,(I47+O47),5)","v":5.613262701858261},{"$f":"IF(B47=\"D\",+(G47+J47)/180+10,\"N/A\")","v":14.072222222222223},{"$f":"IF(Q47>P47,P47*0.6/60,Q47*0.6/60)","v":5.6132627018582605E-2},"PB = 2.91\""]
["NWBA6-CH","D",{"$f":"VLOOKUP(A48,[1]Calcs!$A$6:$L$897,12,FALSE)","v":84},0.71879999999999999,{"$f":"VLOOKUP(A48,[1]Calcs!$A$6:$L$897,7,FALSE)","v":3.9},6.0937500000000002E-3,25,2,2.7230340560835771,1217,null,2.2200000000000002,3.0097322140017706,4.5592973142799105,5.389813535360279,8.112847591443856,16.899999999999999,8.1128475914438558E-2,"PB = 2.91\""]
["NWBC3A","D",{"$f":"VLOOKUP(A49,[1]Calcs!$A$6:$L$897,12,FALSE)","v":93},0.83760000000000001,9.5,1.4843749999999999E-2,125,2,4.1913025717933934,{"$f":"1200-G49","v":1075},null,1.5,2.4739846402110097,3.7477193064582623,{"$f":"IF(J49>500,500/(60*M49)+(J49-500)/(60*N49),(J49/(60*M49)))","v":5.9254959866664905},{"$f":"IF((I49+O49)>5,(I49+O49),5)","v":10.116798558459884},{"$f":"IF(B49=\"D\",+(G49+J49)/180+10,\"N/A\")","v":16.666666666666668},{"$f":"IF(Q49>P49,P49*0.6/60,Q49*0.6/60)","v":0.10116798558459883},"PB = 2.87\""]
["NWBC3B","D",{"$f":"VLOOKUP(A50,[1]Calcs!$A$6:$L$897,12,FALSE)","v":93},0.83760000000000001,6,9.3749999999999997E-3,125,2,4.1913025717933934,{"$f":"980-G50","v":855},null,1.74,2.6645630035711294,4.0364172232315134,4.5932885570389619,8.7845911288323553,15.444444444444445,8.7845911288323558E-2,"PB = 2.87\""]
["NWBC2-CA","D",{"$f":"VLOOKUP(A51,[1]Calcs!$A$6:$L$897,12,FALSE)","v":82.702590673575131},0.70167419689119181,{"$f":"VLOOKUP(A51,[1]Calcs!$A$6:$L$897,7,FALSE)","v":19.299999999999997},3.0156249999999996E-2,120,2.04,6.1928782907358606,1465,null,2.5,3.193900436770063,4.8382848200576207,5.9333207484112265,12.126199039147087,18.805555555555557,0.12126199039147087,"PB = 2.95\""]
["NWBC2-CB","D",{"$f":"VLOOKUP(A52,[1]Calcs!$A$6:$L$897,12,FALSE)","v":84},0.71879999999999999,{"$f":"VLOOKUP(A52,[1]Calcs!$A$6:$L$897,7,FALSE)","v":20},3.125E-2,125,2,6.0888892544498541,1909,null,2.46,3.1682462025543408,4.7994224652555859,7.5232167976377831,13.612106052087636,21.3,0.13612106052087636,"PB = 2.93\""]
["NWBC2-CC","D",{"$f":"VLOOKUP(A53,[1]Calcs!$A$6:$L$897,12,FALSE)","v":81.773201953359148},0.68940626578434083,{"$f":"VLOOKUP(A53,[1]Calcs!$A$6:$L$897,7,FALSE)","v":131.41505599999999},0.20533602499999998,125,2,6.558393956479974,5601,null,2.6100000000000003,3.2634098731235093,4.9435812929494753,19.750950425789263,26.309344382269238,41.81111111111111,0.26309344382269234,"PB =3.03\""]
["NWBC2-CD","D",{"$f":"VLOOKUP(A54,[1]Calcs!$A$6:$L$897,12,FALSE)","v":82.439418416801303},{"$f":"0.0132*C54-0.39","v":0.69820032310177715},{"$f":"VLOOKUP(A54,[1]Calcs!$A$6:$L$897,7,FALSE)","v":6.1899999999999995},{"$f":"E54/640","v":9.6718749999999999E-3},320,1.5,{"$f":"(1.8*(1.1-D54)*G54^0.5)/(H54^0.33333)","v":11.302137279087132},2321,null,3.06,{"$f":"IF(B54=\"D\",20.2*SQRT(L54/100),14.8*SQRT(L54/100))","v":3.5335568482762518},{"$f":"IF(B54=\"D\",30.6*SQRT(L54/100),29.4*SQRT(L54/100))","v":5.3528138394679861},{"$f":"IF(J54>500,500/(60*M54)+(J54-500)/(60*N54),(J54/(60*M54)))","v":8.0282564768792266},{"$f":"IF((I54+O54)>5,(I54+O54),5)","v":19.330393755966359},{"$f":"IF(B54=\"D\",+(G54+J54)/180+10,\"N/A\")","v":24.672222222222224},{"$f":"IF(Q54>P54,P54*0.6/60,Q54*0.6/60)","v":0.19330393755966357},"PB = 2.95\""]
[]
["For Developed basins V1 = 20.2 (Slope/100)0.5 and V2 = 30.6 (Slope/100)0.5"]
["For Existing basins V1 = 14.8 (Slope/100)0.5 and V2 = 29.4 (Slope/100)0.5"]
["If the Travel Length is greater than 500 ft then Tt = 500/(60 V1) + (Travel Length - 500)/(60 V2)"]
["If the Travel Length is less than 500 ft then Tt = Travel Length/(60 V2)"]
["Tc = Ti + Tt"]
[]
[]
[]
[]
[]
[]
[]
[]
[]
[]
[]
[]
[]
[]
[]
[]
[]
[null,null,null,null,null,null,null,null,null,null,null,null,null,null,null,null,null," "]